BEGIN:VCALENDAR
VERSION:2.0
CALSCALE:GREGORIAN
PRODID:-//Diputació de Barcelona//DibaCMS//EN
BEGIN:VEVENT
UID:9372
DTSTAMP:20260423T155637
DTSTART:20161125T132000
DTEND:20171125T132000
SUMMARY:L'Ajuntament aprova presentar un nou recurs pel cas Valentine
LOCATION:
METHOD:PUBLISH
X-WR-CALNAME:llagosta@llagosta.cat
X-WR-TIMEZONE:Europe/Madrid
DESCRIPTION:El Ple de l'Ajuntament de la Llagosta va aprovar ahir per unanimitat la interposició d'un recurs contenciós-administratiu contra l’acord del Govern de la Generalitat pel qual es va aprovar definitivament la modificació puntual del Pla General Metropolità a l’àmbit de Can Milans, a Montcada i Reixac, al sector on es troba ubicada l’empresa Valentine. Amb aquesta decisió, el Consistori de la Llagosta dóna continuïtat a les accions judicials anteriors que van fer que el Tribunal Suprem declarés nul·la la modificació del Pla General Metropolità que requalificava la zona verda de Can Milans en zona industrial.
URI:https://www.llagosta.cat/actualitat/noticies/lajuntament-aprova-presentar-un-nou-recurs-pel-cas-valentine.html
CLASS:PUBLIC
END:VEVENT
END:VCALENDAR
