BEGIN:VCALENDAR
VERSION:2.0
CALSCALE:GREGORIAN
PRODID:-//Diputació de Barcelona//DibaCMS//EN
BEGIN:VEVENT
UID:7194
DTSTAMP:20260421T104622
DTSTART:20140722T000000
DTEND:20150722T000000
SUMMARY:L'Ajuntament pren mesures preventives a l'entorn del carrer de Pablo Picasso
LOCATION:
METHOD:PUBLISH
X-WR-CALNAME:llagosta@llagosta.cat
X-WR-TIMEZONE:Europe/Madrid
DESCRIPTION:El casal d'estiu que s'està celebrant a les instal·lacions de l'Escola Les Planes es traslladarà a partir de demà al Col·legi Joan Maragall com a mesura preventiva després de les dues agressions amb una arma d'aire comprimit que s'han produït a la zona en les darreres setmanes. Avui, les activitats s'han mantingut al Col·legi Les Planes però lluny del carrer de Pablo Picasso.
URI:https://www.llagosta.cat/actualitat/noticies/lajuntament-pren-mesures-preventives-a-lentorn-del-carrer-de-pablo-picasso.html
CLASS:PUBLIC
END:VEVENT
END:VCALENDAR
