BEGIN:VCALENDAR
VERSION:2.0
CALSCALE:GREGORIAN
PRODID:-//Diputació de Barcelona//DibaCMS//EN
BEGIN:VEVENT
UID:6982
DTSTAMP:20260421T122227
DTSTART:20140514T000000
DTEND:20150514T000000
SUMMARY:La xerrada Ser Gran al Sàhara s'ajorna fins el proper dijous, 22 de maig
LOCATION:
METHOD:PUBLISH
X-WR-CALNAME:llagosta@llagosta.cat
X-WR-TIMEZONE:Europe/Madrid
DESCRIPTION:La xerrada Ser gran al Sàhara, que s'havia de desenvolupar demà al Casal d'Avis ha estat ajornada fins dijous de la propera setmana. Problemes d'agenda de darrera hora han obligat als organitzadors a posposar la data de l'acte. La xerrada Ser gran al Sàhara s'emmarca en les Segones Jornades Solidàries de la Llagosta. L'activitat es farà el 22 de maig a les cinc de la tarda al Casal d'Avis. Les Jornades Solidàries estan organitzades per Daora, la Llagosta amb el Sàhara i l'Ajuntament de la nostra localitat.
URI:https://www.llagosta.cat/actualitat/noticies/la-xerrada-ser-gran-al-sahara-sajorna-fins-el-proper-dijous-22-de-maig.html
CLASS:PUBLIC
END:VEVENT
END:VCALENDAR
