BEGIN:VCALENDAR
VERSION:2.0
CALSCALE:GREGORIAN
PRODID:-//Diputació de Barcelona//DibaCMS//EN
BEGIN:VEVENT
UID:6978
DTSTAMP:20260421T122758
DTSTART:20140513T000000
DTEND:20150513T000000
SUMMARY:Bona acollida de la Fira de Sant Ponç celebrada el cap de setmana a la Llagosta
LOCATION:
METHOD:PUBLISH
X-WR-CALNAME:llagosta@llagosta.cat
X-WR-TIMEZONE:Europe/Madrid
DESCRIPTION:La Fira de Sant Ponç del passat cap de setmana va registrar  un bon nombre de visitants. Durant dissabte i diumenge, els veïns i veïnes de la Llagosta han pogut passejar entre la trentena de parades d'artesans i venedors de productes tradicionals que es van instal·lar al passeig de l'avinguda de l'Onze de Setembre.
URI:https://www.llagosta.cat/actualitat/noticies/bona-acollida-de-la-fira-de-sant-ponc-celebrada-el-cap-de-setmana-a-la-llagosta.html
CLASS:PUBLIC
END:VEVENT
END:VCALENDAR
