BEGIN:VCALENDAR
VERSION:2.0
CALSCALE:GREGORIAN
PRODID:-//Diputació de Barcelona//DibaCMS//EN
BEGIN:VEVENT
UID:6954
DTSTAMP:20260423T000617
DTSTART:20140505T000000
DTEND:20150505T000000
SUMMARY:L'amateur del CE la Llagosta pot proclamar-se campió de lliga diumenge
LOCATION:
METHOD:PUBLISH
X-WR-CALNAME:llagosta@llagosta.cat
X-WR-TIMEZONE:Europe/Madrid
DESCRIPTION:El primer equip del Club Esportiu la Llagosta tindrà el proper cap de setmana una nova oportunitat per proclamar-se matemàticament campió de lliga. Els llagostencs tenen suficient a fer el mateix resultat que el Llinars per assegurar-se la primera posició. 
URI:https://www.llagosta.cat/actualitat/noticies/lamateur-del-ce-la-llagosta-pot-proclamar-se-campio-de-lliga-diumenge.html
CLASS:PUBLIC
END:VEVENT
END:VCALENDAR
