BEGIN:VCALENDAR
VERSION:2.0
CALSCALE:GREGORIAN
PRODID:-//Diputació de Barcelona//DibaCMS//EN
BEGIN:VEVENT
UID:6877
DTSTAMP:20260422T070621
DTSTART:20140403T000000
DTEND:20150403T000000
SUMMARY:Comença el termini per inscriure's a la gimcana de Sant Jordi de La Llagosta + Activa
LOCATION:
METHOD:PUBLISH
X-WR-CALNAME:llagosta@llagosta.cat
X-WR-TIMEZONE:Europe/Madrid
DESCRIPTION:La Llagosta + Activa celebrarà, per tercer any consecutiu, la gimcana de Sant Jordi. L'activitat tindrà lloc del 7 al 22 d'abril i, durant aquests dies, els infants i joves que hi participin hauran de recórrer 12 comerços de la nostra localitat i respondre els enigmes que l'entitat i els comerciants els han preparat. El dia 23, diada de Sant Jordi, La Llagosta + Activa farà entrega de l'obsequi a tots els nens i nenes que hagin superat la gimcana.
URI:https://www.llagosta.cat/actualitat/noticies/comenca-el-termini-per-inscriures-a-la-gimcana-de-sant-jordi-de-la-llagosta--activa.html
CLASS:PUBLIC
END:VEVENT
END:VCALENDAR
