BEGIN:VCALENDAR
VERSION:2.0
CALSCALE:GREGORIAN
PRODID:-//Diputació de Barcelona//DibaCMS//EN
BEGIN:VEVENT
UID:6834
DTSTAMP:20260422T033123
DTSTART:20140320T000000
DTEND:20150320T000000
SUMMARY:Ampliat fins el 27 de març el termini per inscriure's a la sortida a les colònies tèxtils
LOCATION:
METHOD:PUBLISH
X-WR-CALNAME:llagosta@llagosta.cat
X-WR-TIMEZONE:Europe/Madrid
DESCRIPTION:El termini per inscriure's a la sortida a les Colònies Tèxtils del Llobregat s'ha ampliat fins el dia 27 de març. El plaç per apuntar-s'hi acabava inicialment avui, però encara hi haurà temps fins d'aquí una setmana. Les reserves es poden fer al Casal d'Avis, de dilluns a dimecres, de set a vuit de la tarda, i els dijous, també a la tarda, de quatre a vuit. 
URI:https://www.llagosta.cat/actualitat/noticies/ampliat-fins-el-27-de-marc-el-termini-per-inscriures-a-la-sortida-a-les-colonies-textils.html
CLASS:PUBLIC
END:VEVENT
END:VCALENDAR
