BEGIN:VCALENDAR
VERSION:2.0
CALSCALE:GREGORIAN
PRODID:-//Diputació de Barcelona//DibaCMS//EN
BEGIN:VEVENT
UID:6803
DTSTAMP:20260422T122333
DTSTART:20140307T000000
DTEND:20150307T000000
SUMMARY:La Llagosta commemora aquest dissabte, 8 de març, el Dia Internacional de les Dones
LOCATION:
METHOD:PUBLISH
X-WR-CALNAME:llagosta@llagosta.cat
X-WR-TIMEZONE:Europe/Madrid
DESCRIPTION:Aquest dissabte és el Dia Internacional de les Dones. L'Ajuntament de la Llagosta i diverses entitats locals han preparat tot un seguit d'activitats per commemorar aquesta jornada. Durant tot el matí de dissabte, la plaça d'Antoni Baqué serà l'escenari de tot un seguit d'activitats reivindicatives sota el lema 8M reivindiquem a la plaça. A la nit es farà el tradicional sopar al Centre Cultural.
URI:https://www.llagosta.cat/actualitat/noticies/la-llagosta-commemora-aquest-dissabte-8-de-marc-el-dia-internacional-de-les-dones.html
CLASS:PUBLIC
END:VEVENT
END:VCALENDAR
