BEGIN:VCALENDAR
VERSION:2.0
CALSCALE:GREGORIAN
PRODID:-//Diputació de Barcelona//DibaCMS//EN
BEGIN:VEVENT
UID:6776
DTSTAMP:20260423T000750
DTSTART:20140226T000000
DTEND:20150226T000000
SUMMARY:El sènior masculí del Joventut podria pujar a Segona aquest cap de setmana
LOCATION:
METHOD:PUBLISH
X-WR-CALNAME:llagosta@llagosta.cat
X-WR-TIMEZONE:Europe/Madrid
DESCRIPTION:El conjunt sènior masculí del Joventut Handbol la Llagosta podria assolir l'ascens a la Segona Catalana aquest cap de setmana. Els llagostencs tenen la primera opció de pujar matemàticament de categoria després de guanyar a l'handbol Riudoms, segon classificat, a la Tercera Catalana Preferent, grup B. Tot i això, per assolir l'ascens els llagostencs han de guanyar; i esperar una punxada del quart i cinquè classificat empatats a punts, Tortosa i Terrassa B respectivament.
URI:https://www.llagosta.cat/actualitat/noticies/el-senior-masculi-del-joventut-podria-pujar-a-segona-aquest-cap-de-setmana.html
CLASS:PUBLIC
END:VEVENT
END:VCALENDAR
