BEGIN:VCALENDAR
VERSION:2.0
CALSCALE:GREGORIAN
PRODID:-//Diputació de Barcelona//DibaCMS//EN
BEGIN:VEVENT
UID:6775
DTSTAMP:20260422T224327
DTSTART:20140226T000000
DTEND:20150226T000000
SUMMARY:Héctor Roura assoleix el setè lloc al Torneig Internacional de Barcelona de judo 
LOCATION:
METHOD:PUBLISH
X-WR-CALNAME:llagosta@llagosta.cat
X-WR-TIMEZONE:Europe/Madrid
DESCRIPTION:El Club de Judo del Gimnàs la Llagosta classifica a dos lluitadors entre les 10 primeres cposicions al Torneig Internacional de Barcelona. Héctor Roura va acabar setè classificat en menys de 73 quilos; i Iván Buendía novè classificat en menys de 81 quilos. El campionat, puntuable per la Copa d'Espanya, se celebra anualment i compta amb clubs d'arreu del món fet que augmenta el seu nivell competitiu. 
URI:https://www.llagosta.cat/actualitat/noticies/hector-roura-assoleix-el-sete-lloc-al-torneig-internacional-de-barcelona-de-judo-.html
CLASS:PUBLIC
END:VEVENT
END:VCALENDAR
