BEGIN:VCALENDAR
VERSION:2.0
CALSCALE:GREGORIAN
PRODID:-//Diputació de Barcelona//DibaCMS//EN
BEGIN:VEVENT
UID:6774
DTSTAMP:20260422T164043
DTSTART:20140226T000000
DTEND:20150226T000000
SUMMARY:Tres escoles del municipi participen en un projecte per reduir el consum d'energia
LOCATION:
METHOD:PUBLISH
X-WR-CALNAME:llagosta@llagosta.cat
X-WR-TIMEZONE:Europe/Madrid
DESCRIPTION:L'Ajuntament de la Llagosta s'ha adherit al projecte Euromet 50/50 per fer les escoles públiques més sostenibles i implicar el conjunt de la comunitat educativa en la cultura de l’estalvi energètic. 
URI:https://www.llagosta.cat/actualitat/noticies/tres-escoles-del-municipi-participen-en-un-projecte-per-reduir-el-consum-denergia.html
CLASS:PUBLIC
END:VEVENT
END:VCALENDAR
