BEGIN:VCALENDAR
VERSION:2.0
CALSCALE:GREGORIAN
PRODID:-//Diputació de Barcelona//DibaCMS//EN
BEGIN:VEVENT
UID:6773
DTSTAMP:20260422T153856
DTSTART:20140226T000000
DTEND:20150226T000000
SUMMARY:L'Ajuntament fomentarà el reciclatge d'oli domèstic per a l'obtenció de biodiesel
LOCATION:
METHOD:PUBLISH
X-WR-CALNAME:llagosta@llagosta.cat
X-WR-TIMEZONE:Europe/Madrid
DESCRIPTION:L'Ajuntament de la Llagosta firmarà un conveni amb el grup Asproseat Serveis Centrals per impulsar al municipi el reciclatge d'oli domèstic. A partir del mes de març, la ciutadania podrà recollir a Can Pelegrí i a l'edifici administratiu del carrer del Pintor Sert uns recipients d'1,5 litres per dipositar l'oli de cuina que ja no es pot aprofitar. Quan estigui ple, el recipient es podrà deixar a uns contenidors instal·lats als llocs abans esmentats i també al Mercat municipal.
URI:https://www.llagosta.cat/actualitat/noticies/lajuntament-fomentara-el-reciclatge-doli-domestic-per-a-lobtencio-de-biodiesel.html
CLASS:PUBLIC
END:VEVENT
END:VCALENDAR
