BEGIN:VCALENDAR
VERSION:2.0
CALSCALE:GREGORIAN
PRODID:-//Diputació de Barcelona//DibaCMS//EN
BEGIN:VEVENT
UID:6772
DTSTAMP:20260422T130405
DTSTART:20140226T000000
DTEND:20150226T000000
SUMMARY:La programació del Dia Internacional de les Dones tindrà un marcat caràcter reivindicatiu
LOCATION:
METHOD:PUBLISH
X-WR-CALNAME:llagosta@llagosta.cat
X-WR-TIMEZONE:Europe/Madrid
DESCRIPTION:L'Ajuntament de la Llagosta ha avançat bona part de la programació del Dia Internacional de les Dones. El mateix dia 8 de març, que enguany s'escau en dissabte, tindran lloc els actes centrals de la celebració. Des de la Regidoria de Polítiques d'Igualtat es considera que aquest any la jornada ha de tenir un marcat caràcter reivindicatiu a causa de les retallades que estan patint els drets de les dones. 
URI:https://www.llagosta.cat/actualitat/noticies/la-programacio-del-dia-internacional-de-les-dones-tindra-un-marcat-caracter-reivindicatiu.html
CLASS:PUBLIC
END:VEVENT
END:VCALENDAR
