BEGIN:VCALENDAR
VERSION:2.0
CALSCALE:GREGORIAN
PRODID:-//Diputació de Barcelona//DibaCMS//EN
BEGIN:VEVENT
UID:6771
DTSTAMP:20260422T060936
DTSTART:20140225T000000
DTEND:20150225T000000
SUMMARY:El Club Petanca la Llagosta puja a la Tercera Catalana a la promoció d'ascens 
LOCATION:
METHOD:PUBLISH
X-WR-CALNAME:llagosta@llagosta.cat
X-WR-TIMEZONE:Europe/Madrid
DESCRIPTION:El Club Petanca la Llagosta ha pujat a la Tercera Catalana després d'imposar-se a la promoció d'ascens al Canyadó de Badalona. L'ascens dels llagostencs es va assolir després de guanyar els dos partits de l'eliminatòria amb claredat als badalonins, que feien la promoció per no baixar. 
URI:https://www.llagosta.cat/actualitat/noticies/el-club-petanca-la-llagosta-puja-a-la-tercera-catalana-a-la-promocio-dascens-.html
CLASS:PUBLIC
END:VEVENT
END:VCALENDAR
