BEGIN:VCALENDAR
VERSION:2.0
CALSCALE:GREGORIAN
PRODID:-//Diputació de Barcelona//DibaCMS//EN
BEGIN:VEVENT
UID:6770
DTSTAMP:20260422T130616
DTSTART:20140225T000000
DTEND:20150225T000000
SUMMARY:Demà, se celebrarà la passejada per a la gent gran que organitza l'Ajuntament
LOCATION:
METHOD:PUBLISH
X-WR-CALNAME:llagosta@llagosta.cat
X-WR-TIMEZONE:Europe/Madrid
DESCRIPTION:L'Ajuntament de la Llagosta organitzarà demà una passejada per a la gent gran en el marc del programa Esport per a tothom. En aquesta activitat, participaran 60 veïns de la Llagosta, 25 de Puig-reig, 35 de Corbera i 15 de Molins de Rei.
URI:https://www.llagosta.cat/actualitat/noticies/dema-se-celebrara-la-passejada-per-a-la-gent-gran-que-organitza-lajuntament.html
CLASS:PUBLIC
END:VEVENT
END:VCALENDAR
