BEGIN:VCALENDAR
VERSION:2.0
CALSCALE:GREGORIAN
PRODID:-//Diputació de Barcelona//DibaCMS//EN
BEGIN:VEVENT
UID:6769
DTSTAMP:20260423T171331
DTSTART:20140225T000000
DTEND:20150225T000000
SUMMARY:El Comitè de Vaga de Panrico recapta 3.540 euros a la calçotada de la Llagosta
LOCATION:
METHOD:PUBLISH
X-WR-CALNAME:llagosta@llagosta.cat
X-WR-TIMEZONE:Europe/Madrid
DESCRIPTION:La calçotada solidària en benefici dels vaguistes de Panrico, que va tenir lloc diumenge al Parc Popular, va reunir més de 600 assitents i en total es van recaptar 3.540 euros que aniran directament a la caixa de resistència. El Comitè de Vaga calcula que aquests diners, provinents de la venda de tiquets i del mercadet solidari que hi havia instal·lat, ajudaran una dotzena de famílies afectades per l'ERO de la factoria de Santa Perpètua de Mogoda. 
URI:https://www.llagosta.cat/actualitat/noticies/el-comite-de-vaga-de-panrico-recapta-3540-euros-a-la-calcotada-de-la-llagosta.html
CLASS:PUBLIC
END:VEVENT
END:VCALENDAR
