BEGIN:VCALENDAR
VERSION:2.0
CALSCALE:GREGORIAN
PRODID:-//Diputació de Barcelona//DibaCMS//EN
BEGIN:VEVENT
UID:6768
DTSTAMP:20260422T165931
DTSTART:20140225T000000
DTEND:20150225T000000
SUMMARY:Ajuntament i entitats estan treballant per ultimar la programació de Sant Josep
LOCATION:
METHOD:PUBLISH
X-WR-CALNAME:llagosta@llagosta.cat
X-WR-TIMEZONE:Europe/Madrid
DESCRIPTION:L'Ajuntament de la Llagosta i diverses entitats de la nostra localitat estan enllestint la programació de les festes de Sant Josep. Els actes de celebració del patró de la Llagosta començaran el 15 de març i es desenvoluparan fins el dia 29.
URI:https://www.llagosta.cat/actualitat/noticies/ajuntament-i-entitats-estan-treballant-per-ultimar-la-programacio-de-sant-josep.html
CLASS:PUBLIC
END:VEVENT
END:VCALENDAR
