BEGIN:VCALENDAR
VERSION:2.0
CALSCALE:GREGORIAN
PRODID:-//Diputació de Barcelona//DibaCMS//EN
BEGIN:VEVENT
UID:6767
DTSTAMP:20260423T111130
DTSTART:20140225T000000
DTEND:20150225T000000
SUMMARY:El Viejas Glorias perd de forma injusta a Badia (4-3) però es manté en primera posició
LOCATION:
METHOD:PUBLISH
X-WR-CALNAME:llagosta@llagosta.cat
X-WR-TIMEZONE:Europe/Madrid
DESCRIPTION:El Club Deportivo Viejas Glorias va caure el cap de setmana passat al camp del Badia per 4 a 3 i va encaixar la segona derrota seguida. Tot i això, els llagostencs es mantenen com a líders.
URI:https://www.llagosta.cat/actualitat/noticies/el-viejas-glorias-perd-de-forma-injusta-a-badia-4-3-pero-es-mante-en-primera-posicio.html
CLASS:PUBLIC
END:VEVENT
END:VCALENDAR
