BEGIN:VCALENDAR
VERSION:2.0
CALSCALE:GREGORIAN
PRODID:-//Diputació de Barcelona//DibaCMS//EN
BEGIN:VEVENT
UID:6766
DTSTAMP:20260422T134636
DTSTART:20140224T000000
DTEND:20150224T000000
SUMMARY:El conjunt amateur del CE la Llagosta goleja l'Olímpic la Garriga B (8-0)
LOCATION:
METHOD:PUBLISH
X-WR-CALNAME:llagosta@llagosta.cat
X-WR-TIMEZONE:Europe/Madrid
DESCRIPTION:El primer equip del Club Esportiu la Llagosta va guanyar dissabte per 8 a 0 l'Olímpic la Garriga B. Els llagostencs van ser molt superiors al seu rival i sumen ja 50 punts.
Víctor San Antonio va marcar l'1 a 0 al minut 2 i, al minut 19, David López va fer el 2 a 0. Abans del descans, van arribar dos gols més de Víctor San Antonio i un de David López. A la segona part, la Llagosta va marcar tres gols, dos de Víctor Rosas i un de Víctor San Antonio.
URI:https://www.llagosta.cat/actualitat/noticies/el-conjunt-amateur-del-ce-la-llagosta-goleja-lolimpic-la-garriga-b-8-0.html
CLASS:PUBLIC
END:VEVENT
END:VCALENDAR
