BEGIN:VCALENDAR
VERSION:2.0
CALSCALE:GREGORIAN
PRODID:-//Diputació de Barcelona//DibaCMS//EN
BEGIN:VEVENT
UID:6765
DTSTAMP:20260422T234723
DTSTART:20140224T000000
DTEND:20150224T000000
SUMMARY:L'atur s'incrementa lleugerament al gener i arriba a les 1.460 persones inscrites a l'OTG
LOCATION:
METHOD:PUBLISH
X-WR-CALNAME:llagosta@llagosta.cat
X-WR-TIMEZONE:Europe/Madrid
DESCRIPTION:L'atur a la Llagosta va incrementar-se aquest gener en 15 persones respecte al mes anterior.  Si al desembre el nombre de persones inscrites a l'Oficina de Treball de la Generalitat davallava fins a 1.445 , l'inici de l'any ha estat marcat pel repunt d'aquesta xifra, que ara se situa en 1.460 persones i una taxa del 21,14%. Tot i així, cal parlar del millor inici d'any des que va començar la crisi. Si comparem les dades de 2014 amb les de 2013, la diferència és de 96 persones inscrites menys.
URI:https://www.llagosta.cat/actualitat/noticies/latur-sincrementa-lleugerament-al-gener-i-arriba-a-les-1460-persones-inscrites-a-lotg.html
CLASS:PUBLIC
END:VEVENT
END:VCALENDAR
