BEGIN:VCALENDAR
VERSION:2.0
CALSCALE:GREGORIAN
PRODID:-//Diputació de Barcelona//DibaCMS//EN
BEGIN:VEVENT
UID:6764
DTSTAMP:20260422T111152
DTSTART:20140221T000000
DTEND:20150221T000000
SUMMARY:El Casal Popular la República acollirà una sessió de Dj i la presentació d'un llibre
LOCATION:
METHOD:PUBLISH
X-WR-CALNAME:llagosta@llagosta.cat
X-WR-TIMEZONE:Europe/Madrid
DESCRIPTION:El Casal Popular la República serà l'escenari els propers dies de dues activitats. Divendres al vespre hi haurà una sessió de deejay dissabte la presentació del llibre Warcelona, una història de violència
URI:https://www.llagosta.cat/actualitat/noticies/el-casal-popular-la-republica-acollira-una-sessio-de-dj-i-la-presentacio-dun-llibre.html
CLASS:PUBLIC
END:VEVENT
END:VCALENDAR
