BEGIN:VCALENDAR
VERSION:2.0
CALSCALE:GREGORIAN
PRODID:-//Diputació de Barcelona//DibaCMS//EN
BEGIN:VEVENT
UID:6763
DTSTAMP:20260422T055252
DTSTART:20140221T000000
DTEND:20150221T000000
SUMMARY:El CD la Concòrdia rebrà aquest dissabte la visita del líder, l'AECS l'Hospitalet
LOCATION:
METHOD:PUBLISH
X-WR-CALNAME:llagosta@llagosta.cat
X-WR-TIMEZONE:Europe/Madrid
DESCRIPTION:El sènior femení del Club Deportivo la Concòrdia rebrà aquest cap de setmana la visita del líder, l'AECS l'Hospitalet. Les de la nostra localitat tindran un partit complicat davant un equip que només ha perdut en una ocasió aquesta temporada. L'enfrontament es disputarà al Complex Esportiu Municipal el Turó. 
URI:https://www.llagosta.cat/actualitat/noticies/el-cd-la-concordia-rebra-aquest-dissabte-la-visita-del-lider-laecs-lhospitalet.html
CLASS:PUBLIC
END:VEVENT
END:VCALENDAR
