BEGIN:VCALENDAR
VERSION:2.0
CALSCALE:GREGORIAN
PRODID:-//Diputació de Barcelona//DibaCMS//EN
BEGIN:VEVENT
UID:6762
DTSTAMP:20260423T033450
DTSTART:20140221T000000
DTEND:20150221T000000
SUMMARY:L'alcalde debat amb alumnes de Batxillerat de l'Institut Marina sobre temes d'actualitat
LOCATION:
METHOD:PUBLISH
X-WR-CALNAME:llagosta@llagosta.cat
X-WR-TIMEZONE:Europe/Madrid
DESCRIPTION:L'Ajuntament de la Llagosta instaurarà a partir d'aquest any un premi per reconèixer els millors treballs de recerca que facin els alumnes de segon de Batxillerat de l'Institut Marina. El Consistori premiarà un treball relacionat amb la Llagosta i un altre sobre qualsevol altre àmbit. Així ho ha anunciat l'alcalde, Alberto López, durant la tertúlia que ha mantingut aquest matí amb estudiants d'aquest centre educatiu de la nostra localitat. 
URI:https://www.llagosta.cat/actualitat/noticies/lalcalde-debat-amb-alumnes-de-batxillerat-de-linstitut-marina-sobre-temes-dactualitat.html
CLASS:PUBLIC
END:VEVENT
END:VCALENDAR
