BEGIN:VCALENDAR
VERSION:2.0
CALSCALE:GREGORIAN
PRODID:-//Diputació de Barcelona//DibaCMS//EN
BEGIN:VEVENT
UID:6761
DTSTAMP:20260422T054741
DTSTART:20140221T000000
DTEND:20150221T000000
SUMMARY:El Comitè de vaga de Panrico organitza una calçotada solidària al Parc Popular
LOCATION:
METHOD:PUBLISH
X-WR-CALNAME:llagosta@llagosta.cat
X-WR-TIMEZONE:Europe/Madrid
DESCRIPTION:El Parc Popular de la Llagosta acollirà diumenge una calçotada solidària en benefici dels vaguistes de Panrico. Els treballadors i treballadores de la factoria de Santa Perpètua porten més de quatre mesos en vaga. L'objectiu de la calçotada es recaptar diners per a la caixa de resistència que ajuda a aquestes famílies a subsistir.
URI:https://www.llagosta.cat/actualitat/noticies/el-comite-de-vaga-de-panrico-organitza-una-calcotada-solidaria-al-parc-popular.html
CLASS:PUBLIC
END:VEVENT
END:VCALENDAR
