BEGIN:VCALENDAR
VERSION:2.0
CALSCALE:GREGORIAN
PRODID:-//Diputació de Barcelona//DibaCMS//EN
BEGIN:VEVENT
UID:6760
DTSTAMP:20260422T080007
DTSTART:20140221T000000
DTEND:20150221T000000
SUMMARY:Una cinquantena de persones creen a la Llagosta una associació dedicada a l'art del bonsai
LOCATION:
METHOD:PUBLISH
X-WR-CALNAME:llagosta@llagosta.cat
X-WR-TIMEZONE:Europe/Madrid
DESCRIPTION:Neix l'Associació de Bonsais la Llagosta, una entitat que pretén divulgar el coneixement d'aquesta pràctica ancestral japonesa. Demà, a les 11h del matí, es presentarà oficialment a la seu de la Fundació Agrària i Cultural, al carrer de Sant Josep número 27. A banda de donar-se a conèixer, l'associació també oferirà una classe magistral oberta a tothom on es parlarà d'adequació de branques, d'arrels i de trasplantament de bonsais. 
URI:https://www.llagosta.cat/actualitat/noticies/una-cinquantena-de-persones-creen-a-la-llagosta-una-associacio-dedicada-a-lart-del-bonsai.html
CLASS:PUBLIC
END:VEVENT
END:VCALENDAR
