BEGIN:VCALENDAR
VERSION:2.0
CALSCALE:GREGORIAN
PRODID:-//Diputació de Barcelona//DibaCMS//EN
BEGIN:VEVENT
UID:6759
DTSTAMP:20260422T114840
DTSTART:20140220T000000
DTEND:20150220T000000
SUMMARY:El Vallag venç al Rubí i trenca una ratxa de quatre partits sense guanyar
LOCATION:
METHOD:PUBLISH
X-WR-CALNAME:llagosta@llagosta.cat
X-WR-TIMEZONE:Europe/Madrid
DESCRIPTION:El sènior de l'Handbol Club Vallag rep al Banyoles B després de guanyar al Rubí 28 a 27 al Complex Esportiu Municipal El Turó. Amb la victòria els llagostencs trenquen una dinàmica de quatre partits consecutius sense guanyar i pugen fins la quarta posició de la Segona Catalana, al grup A, amb 20 punts. 
URI:https://www.llagosta.cat/actualitat/noticies/el-vallag-venc-al-rubi-i-trenca-una-ratxa-de-quatre-partits-sense-guanyar.html
CLASS:PUBLIC
END:VEVENT
END:VCALENDAR
