BEGIN:VCALENDAR
VERSION:2.0
CALSCALE:GREGORIAN
PRODID:-//Diputació de Barcelona//DibaCMS//EN
BEGIN:VEVENT
UID:6758
DTSTAMP:20260422T125109
DTSTART:20140220T000000
DTEND:20150220T000000
SUMMARY:L'Ajuntament presentarà un recurs al Constitucional contra la reforma local
LOCATION:
METHOD:PUBLISH
X-WR-CALNAME:llagosta@llagosta.cat
X-WR-TIMEZONE:Europe/Madrid
DESCRIPTION:L'Ajuntament de la Llagosta presentarà un recurs d'inconstitucionalitat per portar la Llei de Racionalització i Sostenibilitat de l’Administració Local al Tribunal Constitucional. Aquesta decisió serà tractada per a la seva aprovació al Ple ordinari del mes de febrer.
URI:https://www.llagosta.cat/actualitat/noticies/lajuntament-presentara-un-recurs-al-constitucional-contra-la-reforma-local.html
CLASS:PUBLIC
END:VEVENT
END:VCALENDAR
