BEGIN:VCALENDAR
VERSION:2.0
CALSCALE:GREGORIAN
PRODID:-//Diputació de Barcelona//DibaCMS//EN
BEGIN:VEVENT
UID:6757
DTSTAMP:20260422T153127
DTSTART:20140220T000000
DTEND:20150220T000000
SUMMARY:El primer equip de la Unión Llagostense jugarà contra l'Olimaja després de descansar
LOCATION:
METHOD:PUBLISH
X-WR-CALNAME:llagosta@llagosta.cat
X-WR-TIMEZONE:Europe/Madrid
DESCRIPTION:El Fútbol Sala Unión Llagostense es desplaçarà la propera jornada a la pista de l'Olimaja després d'haver descansat el cap de setmana passat perquè el que havia de ser el seu rival, el Vertiworld, es va retirar fa temps de la competició. No obstant això, segons estableix la Federació, el resultat del partit és de 5 a 0 i els llagostencs sumen tres punts.
URI:https://www.llagosta.cat/actualitat/noticies/el-primer-equip-de-la-union-llagostense-jugara-contra-lolimaja-despres-de-descansar.html
CLASS:PUBLIC
END:VEVENT
END:VCALENDAR
