BEGIN:VCALENDAR
VERSION:2.0
CALSCALE:GREGORIAN
PRODID:-//Diputació de Barcelona//DibaCMS//EN
BEGIN:VEVENT
UID:6630
DTSTAMP:20260421T185521
DTSTART:20140109T000000
DTEND:20150109T000000
SUMMARY:Crema un cotxe estacionat al polígon industrial de la Llagosta per un possible curtcircuit
LOCATION:
METHOD:PUBLISH
X-WR-CALNAME:llagosta@llagosta.cat
X-WR-TIMEZONE:Europe/Madrid
DESCRIPTION:Un vehicle, estacionat al carrer de Girona, al polígon industrial de la Llagosta, ha quedat aquesta matinada completament cremat, segons ha informat la Policia Local. Una patrulla policial va comprovar a les dues de la matinada que sortia fum del cotxe, sembla ser que per un curtcircuit. Els agents van intentar apagar el conat d'incendi amb els extintors que portaven al cotxe i van avisar els Bombers de la Generalitat, que van sufocar les flames a les dues i vint minuts.  
URI:https://www.llagosta.cat/actualitat/noticies/crema-un-cotxe-estacionat-al-poligon-industrial-de-la-llagosta-per-un-possible-curtcircuit.html
CLASS:PUBLIC
END:VEVENT
END:VCALENDAR
