BEGIN:VCALENDAR
VERSION:2.0
CALSCALE:GREGORIAN
PRODID:-//Diputació de Barcelona//DibaCMS//EN
BEGIN:VEVENT
UID:6476
DTSTAMP:20260421T122906
DTSTART:20131114T000000
DTEND:20141114T000000
SUMMARY:El FS Unión Llagostense rep el Roma després de guanyar el Quatre Barres (4-5)
LOCATION:
METHOD:PUBLISH
X-WR-CALNAME:llagosta@llagosta.cat
X-WR-TIMEZONE:Europe/Madrid
DESCRIPTION:El primer equip del Fútbol Sala Unión Llagostense rebrà la propera jornada la visita del Roma. Els de la nostra localitat van sumar el cap de setmana passat una victòria a la pista del cuer de la competició, el Quatre Barres, per 4 a 5.
URI:https://www.llagosta.cat/actualitat/noticies/el-fs-union-llagostense-rep-el-roma-despres-de-guanyar-el-quatre-barres-4-5.html
CLASS:PUBLIC
END:VEVENT
END:VCALENDAR
