BEGIN:VCALENDAR
VERSION:2.0
CALSCALE:GREGORIAN
PRODID:-//Diputació de Barcelona//DibaCMS//EN
BEGIN:VEVENT
UID:6473
DTSTAMP:20260421T105056
DTSTART:20131113T000000
DTEND:20141113T000000
SUMMARY:L'Ajuntament es va reunir ahir amb les entitats per planificar les activitats nadalenques
LOCATION:
METHOD:PUBLISH
X-WR-CALNAME:llagosta@llagosta.cat
X-WR-TIMEZONE:Europe/Madrid
DESCRIPTION:Representants de més d'una vintena d'entitats de la Llagosta van assistir ahir a la reunió que va convocar l'Ajuntament per preparar la programació d'activitats que es desenvoluparà a la nostra localitat durant les festes nadalenques i per planificar la Cavalcada de Reis. La trobada va tenir lloc al saló de plens del Consistori i va comptar amb l'assistència del regidor de Cultura i Esports, Jesús Ríos.
URI:https://www.llagosta.cat/actualitat/noticies/lajuntament-es-va-reunir-ahir-amb-les-entitats-per-planificar-les-activitats-nadalenques.html
CLASS:PUBLIC
END:VEVENT
END:VCALENDAR
