BEGIN:VCALENDAR
VERSION:2.0
CALSCALE:GREGORIAN
PRODID:-//Diputació de Barcelona//DibaCMS//EN
BEGIN:VEVENT
UID:6468
DTSTAMP:20260422T000008
DTSTART:20131112T000000
DTEND:20141112T000000
SUMMARY:El conjunt sènior de la Concòrdia, amb moltes baixes, perd a Martorelles per 5 a 0 
LOCATION:
METHOD:PUBLISH
X-WR-CALNAME:llagosta@llagosta.cat
X-WR-TIMEZONE:Europe/Madrid
DESCRIPTION:El sènior del Club Deportivo la Concòrdia va encaixar el cap de setmana passat la segona derrota de la temporada en perdre a Martorelles per un clar 5 a 0. L'equip llagostenc va afrontar el partit amb sis baixes, quatre per lesió i dues per motius laborals, i van debutar dues jugadores del conjunt juvenil-cadet, Marta Vizcaíno i Andrea Castillo. 
URI:https://www.llagosta.cat/actualitat/noticies/el-conjunt-senior-de-la-concordia-amb-moltes-baixes-perd-a-martorelles-per-5-a-0-.html
CLASS:PUBLIC
END:VEVENT
END:VCALENDAR
