BEGIN:VCALENDAR
VERSION:2.0
CALSCALE:GREGORIAN
PRODID:-//Diputació de Barcelona//DibaCMS//EN
BEGIN:VEVENT
UID:6465
DTSTAMP:20260422T130457
DTSTART:20131108T000000
DTEND:20141108T000000
SUMMARY:Avui ha sortit al carrer el número de novembre del periòdic 08CENTVINT
LOCATION:
METHOD:PUBLISH
X-WR-CALNAME:llagosta@llagosta.cat
X-WR-TIMEZONE:Europe/Madrid
DESCRIPTION:L'Ajuntament de la Llagosta distribueix avui el número 4 del periòdic 08CENTVINT. A la publicació es pot llegir un especial dedicat a l'exalcalde José Luis López. També, hi ha altres informacions, com les relacionades amb el darrer ple que va celebrar l'Ajuntament i durant el qual es van aprovar de forma inicial les ordenances municipals de 2014. 
URI:https://www.llagosta.cat/actualitat/noticies/avui-ha-sortit-al-carrer-el-numero-de-novembre-del-periodic-08centvint.html
CLASS:PUBLIC
END:VEVENT
END:VCALENDAR
