BEGIN:VCALENDAR
VERSION:2.0
CALSCALE:GREGORIAN
PRODID:-//Diputació de Barcelona//DibaCMS//EN
BEGIN:VEVENT
UID:6464
DTSTAMP:20260422T094611
DTSTART:20131108T000000
DTEND:20141108T000000
SUMMARY:La Llagosta forma part novemament del cicle de passejades per a la gent gran
LOCATION:
METHOD:PUBLISH
X-WR-CALNAME:llagosta@llagosta.cat
X-WR-TIMEZONE:Europe/Madrid
DESCRIPTION:L'Ajuntament de la Llagosta s'ha adherit, un any més, al cicle de passejades per a la gent gran que impulsa la Diputació de Barcelona. Aquesta activitat, que s'emmarca en la programació Xarxa de Municipis de Qualitat, arriba a l'onzena edició.
URI:https://www.llagosta.cat/actualitat/noticies/la-llagosta-forma-part-novemament-del-cicle-de-passejades-per-a-la-gent-gran.html
CLASS:PUBLIC
END:VEVENT
END:VCALENDAR
