BEGIN:VCALENDAR
VERSION:2.0
CALSCALE:GREGORIAN
PRODID:-//Diputació de Barcelona//DibaCMS//EN
BEGIN:VEVENT
UID:6460
DTSTAMP:20260422T111503
DTSTART:20131107T000000
DTEND:20141107T000000
SUMMARY:L'Ajuntament es reunirà dimarts amb les entitats per preparar la programació de Nadal
LOCATION:
METHOD:PUBLISH
X-WR-CALNAME:llagosta@llagosta.cat
X-WR-TIMEZONE:Europe/Madrid
DESCRIPTION:L'Ajuntament de la Llagosta ha convocat per a dimarts, dia 12 de novembre, a les entitats culturals, socials i juvenils a una reunió per preparar la programació d'activitats que es desenvoluparà a la nostra localitat durant les festes de Nadal, Cap d'Any i Reis. La trobada, a la qual assistirà el regidor de Cultura i Esports, Jesús Ríos, se celebrarà al saló de plens del Consistori a partir de dos quarts de vuit de la tarda. 
URI:https://www.llagosta.cat/actualitat/noticies/lajuntament-es-reunira-dimarts-amb-les-entitats-per-preparar-la-programacio-de-nadal.html
CLASS:PUBLIC
END:VEVENT
END:VCALENDAR
