BEGIN:VCALENDAR
VERSION:2.0
CALSCALE:GREGORIAN
PRODID:-//Diputació de Barcelona//DibaCMS//EN
BEGIN:VEVENT
UID:6459
DTSTAMP:20260421T174146
DTSTART:20131107T000000
DTEND:20141107T000000
SUMMARY:Aquest divendres es fa el lliurament de premis del concurs Sabors de mercat
LOCATION:
METHOD:PUBLISH
X-WR-CALNAME:llagosta@llagosta.cat
X-WR-TIMEZONE:Europe/Madrid
DESCRIPTION:Demà es farà públic el veredicte del jurat del concurs Sabors de mercat: receptes per l'aprofitament alimentari i tindrà lloc el lliurament de premis. L'acte es desenvoluparà al Mercat Municipal a les 18.30 h.
URI:https://www.llagosta.cat/actualitat/noticies/aquest-divendres-es-fa-el-lliurament-de-premis-del-concurs-sabors-de-mercat.html
CLASS:PUBLIC
END:VEVENT
END:VCALENDAR
