BEGIN:VCALENDAR
VERSION:2.0
CALSCALE:GREGORIAN
PRODID:-//Diputació de Barcelona//DibaCMS//EN
BEGIN:VEVENT
UID:6456
DTSTAMP:20260422T013151
DTSTART:20131106T000000
DTEND:20141106T000000
SUMMARY:El FS Unión Llagostense visita la pista del cuer, el Quatre Barres de Barcelona
LOCATION:
METHOD:PUBLISH
X-WR-CALNAME:llagosta@llagosta.cat
X-WR-TIMEZONE:Europe/Madrid
DESCRIPTION:El primer equip del Fútbol Sala Unión Llagostense jugarà el proper cap de setmana a la pista del Quatre Barres de Barcelona. El partit de la jornada passada contra el Barceloneta va ser suspès per l'arbitre a dotze minuts del final, quan el resultat era de 4 a 5 a favor del equip barceloní.
URI:https://www.llagosta.cat/actualitat/noticies/el-fs-union-llagostense-visita-la-pista-del-cuer-el-quatre-barres-de-barcelona.html
CLASS:PUBLIC
END:VEVENT
END:VCALENDAR
