BEGIN:VCALENDAR
VERSION:2.0
CALSCALE:GREGORIAN
PRODID:-//Diputació de Barcelona//DibaCMS//EN
BEGIN:VEVENT
UID:6453
DTSTAMP:20260421T123013
DTSTART:20131105T000000
DTEND:20141105T000000
SUMMARY:La Concòrdia deixa escapar els dos primers punts de la temporada a casa 
LOCATION:
METHOD:PUBLISH
X-WR-CALNAME:llagosta@llagosta.cat
X-WR-TIMEZONE:Europe/Madrid
DESCRIPTION:El sènior del Club Deportivo la Concòrdia va empatar dissabte a dos gols contra el Frederic Mistral. Les de la nostra localitat van deixar escapar dos punts en els darrers minuts del partit davant de l'antepenúltim classificat del grup.
URI:https://www.llagosta.cat/actualitat/noticies/la-concordia-deixa-escapar-els-dos-primers-punts-de-la-temporada-a-casa-.html
CLASS:PUBLIC
END:VEVENT
END:VCALENDAR
