BEGIN:VCALENDAR
VERSION:2.0
CALSCALE:GREGORIAN
PRODID:-//Diputació de Barcelona//DibaCMS//EN
BEGIN:VEVENT
UID:6452
DTSTAMP:20260422T143740
DTSTART:20131105T000000
DTEND:20141105T000000
SUMMARY:El Club Deportivo Viejas Glorias goleja el Castic (5-1) i recupera el liderat
LOCATION:
METHOD:PUBLISH
X-WR-CALNAME:llagosta@llagosta.cat
X-WR-TIMEZONE:Europe/Madrid
DESCRIPTION:El Club Deportivo Viejas Glorias ha recuperat el liderat després de guanyar dissabte per 5 a 1 el Castic i que el fins ara primer classificat, el Juan XXIII, empatés el cap de setmana contra el Llano. Ara mateix, el Viejas Glorias i el Juan XXIII encapçalen el grup empatats amb setze punts.
URI:https://www.llagosta.cat/actualitat/noticies/el-club-deportivo-viejas-glorias-goleja-el-castic-5-1-i-recupera-el-liderat.html
CLASS:PUBLIC
END:VEVENT
END:VCALENDAR
