BEGIN:VCALENDAR
VERSION:2.0
CALSCALE:GREGORIAN
PRODID:-//Diputació de Barcelona//DibaCMS//EN
BEGIN:VEVENT
UID:6451
DTSTAMP:20260421T173742
DTSTART:20131104T000000
DTEND:20141104T000000
SUMMARY:Antonio García Robledo guanya amb Espanya dos partits amistosos contra Hongria
LOCATION:
METHOD:PUBLISH
X-WR-CALNAME:llagosta@llagosta.cat
X-WR-TIMEZONE:Europe/Madrid
DESCRIPTION:El llagostenc Antonio García Robledo ha disputat aquests darrers dies dos partits amistosos amb la selecció espanyola d'handbol contra Hongria. Els dos enfrontaments, jugats a la localitat hongaresa de Debrecen, s'han saldat amb victòria del conjunt que entrena Manolo Cadenas.
URI:https://www.llagosta.cat/actualitat/noticies/antonio-garcia-robledo-guanya-amb-espanya-dos-partits-amistosos-contra-hongria.html
CLASS:PUBLIC
END:VEVENT
END:VCALENDAR
