BEGIN:VCALENDAR
VERSION:2.0
CALSCALE:GREGORIAN
PRODID:-//Diputació de Barcelona//DibaCMS//EN
BEGIN:VEVENT
UID:6448
DTSTAMP:20260423T201625
DTSTART:20131104T000000
DTEND:20141104T000000
SUMMARY:La Llagosta col·laborarà amb el Gran Recapte d'Aliments dels dies 29 i 30 de novembre
LOCATION:
METHOD:PUBLISH
X-WR-CALNAME:llagosta@llagosta.cat
X-WR-TIMEZONE:Europe/Madrid
DESCRIPTION:El 29 i el 30 de novembre es desenvoluparà a la Llagosta el Gran Recapte d'Aliments, que, com a altres municipis catalans, organitza la fundació Banc d'Aliments. Amb aquesta iniciativa solidària col·laboren l'Ajuntament, l'associació de voluntariat Rems, l'entitat la Llagosta + Activa, l'Institut Marina i l'església evangèlica del Redemptor.
URI:https://www.llagosta.cat/actualitat/noticies/la-llagosta-collaborara-amb-el-gran-recapte-daliments-dels-dies-29-i-30-de-novembre.html
CLASS:PUBLIC
END:VEVENT
END:VCALENDAR
