BEGIN:VCALENDAR
VERSION:2.0
CALSCALE:GREGORIAN
PRODID:-//Diputació de Barcelona//DibaCMS//EN
BEGIN:VEVENT
UID:6446
DTSTAMP:20260423T131330
DTSTART:20131031T000000
DTEND:20141031T000000
SUMMARY:La castanyada continuarà amb la Halloweenyada i amb el passatge del terror
LOCATION:
METHOD:PUBLISH
X-WR-CALNAME:llagosta@llagosta.cat
X-WR-TIMEZONE:Europe/Madrid
DESCRIPTION:A més de les activitats d'aquest dijous per celebrar la Castanyada, durant el cap de setmana tindrem altres propostes organitzades per entitats de la nostra localitat. L'Esplai Dijoc i la Llagosta Brava han preprarat la Halloweenyada i el grup de teatre TELL un passatge del terror.
URI:https://www.llagosta.cat/actualitat/noticies/la-castanyada-continuara-amb-la-halloweenyada-i-amb-el-passatge-del-terror.html
CLASS:PUBLIC
END:VEVENT
END:VCALENDAR
