BEGIN:VCALENDAR
VERSION:2.0
CALSCALE:GREGORIAN
PRODID:-//Diputació de Barcelona//DibaCMS//EN
BEGIN:VEVENT
UID:6445
DTSTAMP:20260422T034038
DTSTART:20131031T000000
DTEND:20141031T000000
SUMMARY:El Joventut Handbol la Llagosta guanya a Martorell (23-40) i manté la primera posició
LOCATION:
METHOD:PUBLISH
X-WR-CALNAME:llagosta@llagosta.cat
X-WR-TIMEZONE:Europe/Madrid
DESCRIPTION:El sènior masculí del Joventut Handbol la Llagosta va aconseguir el cap de setmana passat una nova victòria en derrotar el Martorell per un clar 23 a 40. Els llagostencs van ser molt superiors, sobretot durant la primera part. Després del descans, l'entrenador, Luis Canalejas, va fer molts canvis. 
URI:https://www.llagosta.cat/actualitat/noticies/el-joventut-handbol-la-llagosta-guanya-a-martorell-23-40-i-mante-la-primera-posicio.html
CLASS:PUBLIC
END:VEVENT
END:VCALENDAR
