BEGIN:VCALENDAR
VERSION:2.0
CALSCALE:GREGORIAN
PRODID:-//Diputació de Barcelona//DibaCMS//EN
BEGIN:VEVENT
UID:6441
DTSTAMP:20260422T024812
DTSTART:20131030T000000
DTEND:20141030T000000
SUMMARY:El cementiri municipal tindrà per Tots Sants un horari especial i un servei d'autobús gratuït 
LOCATION:
METHOD:PUBLISH
X-WR-CALNAME:llagosta@llagosta.cat
X-WR-TIMEZONE:Europe/Madrid
DESCRIPTION:Amb motiu de la festivitat de Tots Sants i la dels Difunts, el cementiri de la Llagosta obre aquests dies en un horari especial. A més, l'Ajuntament tornarà a establir un servei de bus gratuït.
URI:https://www.llagosta.cat/actualitat/noticies/el-cementiri-municipal-tindra-per-tots-sants-un-horari-especial-i-un-servei-dautobus-gratuit-.html
CLASS:PUBLIC
END:VEVENT
END:VCALENDAR
