BEGIN:VCALENDAR
VERSION:2.0
CALSCALE:GREGORIAN
PRODID:-//Diputació de Barcelona//DibaCMS//EN
BEGIN:VEVENT
UID:6439
DTSTAMP:20260422T100303
DTSTART:20131030T000000
DTEND:20141030T000000
SUMMARY:El FS Unión Llagostense perd davant el Bosc d'en Vilaró (7-6) i baixa un lloc a la taula
LOCATION:
METHOD:PUBLISH
X-WR-CALNAME:llagosta@llagosta.cat
X-WR-TIMEZONE:Europe/Madrid
DESCRIPTION:El primer equip del Fútbol Sala Unión Llagostense va perdre la jornada passada a la pista del Bosc d'en Vilaró de Montcada per 7 a 6. Aquesta és la tercera derrota de la temporada dels de la nostra localitat.
URI:https://www.llagosta.cat/actualitat/noticies/el-fs-union-llagostense-perd-davant-el-bosc-den-vilaro-7-6-i-baixa-un-lloc-a-la-taula.html
CLASS:PUBLIC
END:VEVENT
END:VCALENDAR
