BEGIN:VCALENDAR
VERSION:2.0
CALSCALE:GREGORIAN
PRODID:-//Diputació de Barcelona//DibaCMS//EN
BEGIN:VEVENT
UID:6437
DTSTAMP:20260422T022126
DTSTART:20131029T000000
DTEND:20141029T000000
SUMMARY:L'Engreskada busca gent per preparar les proves la Festa Major del proper any
LOCATION:
METHOD:PUBLISH
X-WR-CALNAME:llagosta@llagosta.cat
X-WR-TIMEZONE:Europe/Madrid
DESCRIPTION:L'Engreskada ja està començant a treballar en la Festa Major del proper any. El grup, que es va encarregar d'organitzar les proves per a Saltats i Volats el passat setembre, ha iniciat un procés per trobar gent que vulgui formar-ne part.
URI:https://www.llagosta.cat/actualitat/noticies/lengreskada-busca-gent-per-preparar-les-proves-la-festa-major-del-proper-any.html
CLASS:PUBLIC
END:VEVENT
END:VCALENDAR
