BEGIN:VCALENDAR
VERSION:2.0
CALSCALE:GREGORIAN
PRODID:-//Diputació de Barcelona//DibaCMS//EN
BEGIN:VEVENT
UID:6431
DTSTAMP:20260421T192423
DTSTART:20131025T000000
DTEND:20141025T000000
SUMMARY:El Joventut Handbol la Llagosta defensarà el liderat a la pista del Martorell
LOCATION:
METHOD:PUBLISH
X-WR-CALNAME:llagosta@llagosta.cat
X-WR-TIMEZONE:Europe/Madrid
DESCRIPTION:El sènior masculí del Joventut Handbol la Llagosta jugarà demà a la pista del Martorell. Els de la nostra localitat continuen encapçalant la classificació després de guanyar la jornada passada el Sabadell B per un clar 35 a 14.
URI:https://www.llagosta.cat/actualitat/noticies/el-joventut-handbol-la-llagosta-defensara-el-liderat-a-la-pista-del-martorell.html
CLASS:PUBLIC
END:VEVENT
END:VCALENDAR
