BEGIN:VCALENDAR
VERSION:2.0
CALSCALE:GREGORIAN
PRODID:-//Diputació de Barcelona//DibaCMS//EN
BEGIN:VEVENT
UID:6430
DTSTAMP:20260422T123241
DTSTART:20131025T000000
DTEND:20141025T000000
SUMMARY:El Vallag visita com a líder la pista del Rubí després de guanyar el JH Mataró C (30-26)
LOCATION:
METHOD:PUBLISH
X-WR-CALNAME:llagosta@llagosta.cat
X-WR-TIMEZONE:Europe/Madrid
DESCRIPTION:El sènior de l'Handbol Club Vallag defensarà diumenge el liderat al  grup A de la Segona Catalana a la pista del Rubí. Els llagostencs són líders en solitari després de guanyar per 30 a 26 al Joventut Handbol Mataró C i que els seus principals, el Fornells i el Garbí, no hagin guanyat els seus enfrontaments.
URI:https://www.llagosta.cat/actualitat/noticies/el-vallag-visita-com-a-lider-la-pista-del-rubi-despres-de-guanyar-el-jh-mataro-c-30-26.html
CLASS:PUBLIC
END:VEVENT
END:VCALENDAR
