BEGIN:VCALENDAR
VERSION:2.0
CALSCALE:GREGORIAN
PRODID:-//Diputació de Barcelona//DibaCMS//EN
BEGIN:VEVENT
UID:6421
DTSTAMP:20260421T172852
DTSTART:20131022T000000
DTEND:20141022T000000
SUMMARY:L'atur baixa a la Llagosta per setè mes consecutiu amb vuit desocupats menys 
LOCATION:
METHOD:PUBLISH
X-WR-CALNAME:llagosta@llagosta.cat
X-WR-TIMEZONE:Europe/Madrid
DESCRIPTION:L'atur va disminuir a la Llagosta al mes de setembre en vuit persones, situant la taxa de desocupació en el 20,94 %. El mes passat ha estat ha estat el setè consecutiu en el que ha baixat el nombre de llagostencs registrats a l'Oficina de Treball de la Generalitat.
URI:https://www.llagosta.cat/actualitat/noticies/latur-baixa-a-la-llagosta-per-sete-mes-consecutiu-amb-vuit-desocupats-menys-.html
CLASS:PUBLIC
END:VEVENT
END:VCALENDAR
