BEGIN:VCALENDAR
VERSION:2.0
CALSCALE:GREGORIAN
PRODID:-//Diputació de Barcelona//DibaCMS//EN
BEGIN:VEVENT
UID:6415
DTSTAMP:20260421T112037
DTSTART:20131018T000000
DTEND:20141018T000000
SUMMARY:El CE la Llagosta presentarà diumenge els 13 equips de futbol base del club
LOCATION:
METHOD:PUBLISH
X-WR-CALNAME:llagosta@llagosta.cat
X-WR-TIMEZONE:Europe/Madrid
DESCRIPTION:El Club Esportiu la Llagosta farà diumenge la presentació dels equips de futbol base. L'acte començarà a dos quarts de cinc de la tarda al Camp Municipal de Futbol Joan Gelabert.
URI:https://www.llagosta.cat/actualitat/noticies/el-ce-la-llagosta-presentara-diumenge-els-13-equips-de-futbol-base-del-club.html
CLASS:PUBLIC
END:VEVENT
END:VCALENDAR
